BEGIN:VCALENDAR
VERSION:2.0
PRODID:-//artifica.one//Loscouët-sur-Meu//FR
CALSCALE:GREGORIAN
METHOD:PUBLISH
BEGIN:VEVENT
SUMMARY:Programme Mars et Avril - Le Carré Jeunes Merdrig
 nac
UID:3495
SEQUENCE:0
STATUS:CONFIRMED
TRANSP:TRANSPARENT
DTSTART:20260305T070000Z
DTEND:20260305T190000Z
DTSTAMP:20260305T154459Z

DESCRIPTION:il est possible de s'inscrire dès maintenant !
URL:https://www.loscouetsurmeu.bzh/agenda/programme-mars-et-avril-le-carre-jeunes-merdrignac-3495
END:VEVENT
END:VCALENDAR
