BEGIN:VCALENDAR
VERSION:2.0
PRODID:-//artifica.one//Loscouët-sur-Meu//FR
CALSCALE:GREGORIAN
METHOD:PUBLISH
BEGIN:VEVENT
SUMMARY:Bien Vieillir à Loudéac Commmunauté - Saynètes
 , Théâtre interactif
UID:3601
SEQUENCE:0
STATUS:CONFIRMED
TRANSP:TRANSPARENT
DTSTART:20260422T060000Z
DTEND:20260422T180000Z
DTSTAMP:20260422T102904Z

DESCRIPTION:
URL:https://www.loscouetsurmeu.bzh/agenda/bien-vieillir-a-loudeac-commmunaute-saynetes-theatre-interactif-3601
END:VEVENT
END:VCALENDAR
