BEGIN:VCALENDAR
VERSION:2.0
PRODID:-//artifica.one//Loscouët-sur-Meu//FR
CALSCALE:GREGORIAN
METHOD:PUBLISH
BEGIN:VEVENT
SUMMARY:Ateliers sonores et musicaux 0-3 ans
UID:3602
SEQUENCE:0
STATUS:CONFIRMED
TRANSP:TRANSPARENT
DTSTART:20260422T060000Z
DTEND:20260606T180000Z
DTSTAMP:20260422T112503Z

DESCRIPTION:Veuillez trouver ci-joint les nouvelles dates des 
 ateliers sonores et musicaux 0-3 ans animés par l
 e service petite enfance du CIAS de Loudéac Commu
 nauté.
URL:https://www.loscouetsurmeu.bzh/agenda/ateliers-sonores-et-musicaux-0-3-ans-3602
END:VEVENT
END:VCALENDAR
